{"text_format":"1","workbook":"xlsx","n_sheets":5,"sheets":["【記入例】工事請負 ","工事請負","【記入例】物品 ","物品","内訳書"],"not_rendered":{"charts":0,"images":1,"macros":1,"external_links":0,"defined_names":8,"comments":4,"pivot_tables":0},"unopened":[],"bounds":{"document_bytes":16777216,"sheet_cells":100000,"rows_first":2000,"rows_last":500,"rows_between":2000,"halvings":0,"cell_chars":16384,"cell_head_chars":4096},"cells_cut":0,"cells_raw":0,"read":"whole","date_system":"1900"}

{"sheet":"【記入例】工事請負 ","index":0,"n_rows":75,"n_cols":43,"rows_kept":75,"cut":false,"hidden":false,"merged":[[74,39,76,40],[74,41,76,42],[74,43,76,44],[75,8,75,20],[76,8,76,20],[71,8,71,20],[72,8,72,20],[73,8,73,20],[74,33,76,34],[74,35,76,36],[74,37,76,38],[68,8,68,10],[68,14,68,18],[68,23,69,27],[68,28,69,33],[68,34,69,38],[68,39,69,44],[69,10,69,18],[64,39,65,44],[66,23,67,27],[66,28,67,33],[66,34,67,38],[66,39,67,44],[64,28,65,33],[64,34,65,38],[67,5,67,7],[67,8,67,10],[67,11,67,12],[67,13,67,16],[67,17,67,18],[63,5,64,8],[63,9,64,19],[63,23,63,27],[64,23,65,27],[60,5,61,8],[60,9,61,19],[60,23,61,27],[60,28,61,33],[60,34,61,38],[60,39,61,44],[56,23,57,27],[56,28,57,33],[56,34,57,38],[56,39,57,44],[57,5,58,8],[57,9,58,19],[58,23,59,27],[58,28,59,33],[58,34,59,38],[58,39,59,44],[54,5,55,10],[54,11,55,19],[54,23,55,27],[54,28,55,33],[54,34,55,38],[54,39,55,44],[49,27,51,28],[49,30,50,40],[51,5,51,7],[51,12,51,16],[51,30,51,40],[52,27,52,28],[52,30,52,35],[52,37,52,38],[52,39,52,43],[45,27,46,30],[45,31,46,36],[45,37,46,39],[45,40,46,40],[46,4,47,14],[46,15,47,16],[47,27,48,28],[47,31,47,35],[48,5,49,14],[48,30,48,40],[34,39,36,40],[34,41,36,42],[34,43,36,44],[35,8,35,20],[36,8,36,20],[41,19,42,28],[41,42,41,44],[42,4,43,11],[43,19,44,28],[31,8,31,20],[32,8,32,20],[33,8,33,20],[34,33,36,34],[34,35,36,36],[34,37,36,38],[28,8,28,10],[28,14,28,18],[28,23,29,27],[28,28,29,33],[28,34,29,38],[28,39,29,44],[29,10,29,18],[24,39,25,44],[26,23,27,27],[26,28,27,33],[26,34,27,38],[26,39,27,44],[27,5,27,7],[27,8,27,10],[27,11,27,12],[27,13,27,16],[27,17,27,18],[23,5,24,8],[23,9,24,19],[23,23,23,27],[24,23,25,27],[24,28,25,33],[24,34,25,38],[20,5,21,8],[20,9,21,19],[20,23,21,27],[20,28,21,33],[20,34,21,38],[20,39,21,44],[16,23,17,27],[16,28,17,33],[16,34,17,38],[16,39,17,44],[17,5,18,8],[17,9,18,19],[18,23,19,27],[18,28,19,33],[18,34,19,38],[18,39,19,44],[12,27,12,28],[12,30,12,35],[12,37,12,38],[12,39,12,43],[14,5,15,10],[14,11,15,19],[14,23,15,27],[14,28,15,33],[14,34,15,38],[14,39,15,44],[1,19,2,28],[1,42,1,44],[2,4,3,11],[3,19,4,28],[5,27,6,30],[5,31,6,36],[5,37,6,39],[5,40,6,40],[6,4,7,14],[6,15,7,16],[7,27,8,28],[7,31,7,35],[8,5,9,14],[8,30,8,40],[9,27,11,28],[9,30,10,40],[11,5,11,7],[11,12,11,16],[11,30,11,40]]}
[]
[null,null,null,null,null,null,null,null,null,null,null,null,null,null,null,null,null,null,null,"請　　　求　　　書",null,null,null,null,null,null,null,null,null,null,null,null,null,null,null,null,null,null,null,null,null,null,"提出用"]
[]
[null,null,null,null,null,null,null,null,null,null,null,null,null,null,null,null,null,null,null,"（工 事 請 負）"]
[]
[null,null,null,null,null,null,null,null,null,null,null,null,null,null,null,null,null,null,null,null,null,null,null,null,null,null,null,"登録番号",null,null,null,"T10100000000",null,null,null,null,null,"免税事業者"]
[null,null,null,null,"株式会社　長谷川建設",null,null,null,null,null,null,null,null,null,null,"御中"]
[null,null,null,null,null,null,null,null,null,null,null,null,null,null,null,null,null,null,null,null,null,null,null,null,null,null,null,"住　所",null,null,"〒","957-0000"]
[null,null,null,null,null,"下記の通り請求いたします。",null,null,null,null,null,null,null,null,null,null,null,null,null,null,null,null,null,null,null,null,null,null,null,null,"新発田市〇〇"]
[null,null,null,null,null,null,null,null,null,null,null,null,null,null,null,null,null,null,null,null,null,null,null,null,null,null,null,"会社名",null,null,"株式会社　〇〇"]
[]
[null,null,null,null,null,"令和",null,null,5,"年",10,"月","末日締切分",null,null,null,null,null,null,null,null,null,null,null,null,null,null,null,null,null,"代表取締役　〇〇"]
[null,null,null,null,null,null,null,null,null,null,null,null,null,null,null,null,null,null,null,null,null,null,null,null,null,null,null,"電　話",null,null,"0254-00-0000",null,null,null,null,null,null,"FAX",null,"0254-00-0000"]
[]
[null,null,null,null,null,"請求金額（消費税込）",null,null,null,null,null,{"$f":"SUM(AC29+AN29)","v":550000},null,null,null,null,null,null,null,null,null,null,null,"請負金額",null,null,null,null,"金額（税抜）",null,null,null,null,null,"累計出来高",null,null,null,null,500000]
[]
[null,null,null,null,null,null,null,null,null,null,null,null,null,null,null,null,null,null,null,null,null,null,null,"当初契約額",null,null,null,null,1000000,null,null,null,null,null,"前回までの請求額",null,null,null,null,0]
[null,null,null,null,null,"工事名",null,null,null,"〇〇〇工事"]
[null,null,null,null,null,null,null,null,null,null,null,null,null,null,null,null,null,null,null,null,null,null,null,"変更（増・減）",null,null,null,null,0,null,null,null,null,null,"今回請求額",null,null,null,null,500000]
[]
[null,null,null,null,null,"工事場所",null,null,null,"新発田市地内",null,null,null,null,null,null,null,null,null,null,null,null,null,"変更後契約額",null,null,null,null,{"$f":"SUM(AC17:AH20)","v":1000000},null,null,null,null,null,"差引残高",null,null,null,null,{"$f":"SUM(AC21-AN17-AN19)","v":500000}]
[]
[]
[null,null,null,null,null,"工事番号",null,null,null,"23-9-20",null,null,null,null,null,null,null,null,null,null,null,null,null,"今回請求額"]
[null,null,null,null,null,null,null,null,null,null,null,null,null,null,null,null,null,null,null,null,null,null,null,"課税対象額",null,null,null,null,500000,null,null,null,null,null,"消費税　10％",null,null,null,null,{"$f":"SUM(AC25*0.1)","v":50000}]
[]
[null,null,null,null,null,"※新規お取引の場合または変更があった場合のみご記入下さい。",null,null,null,null,null,null,null,null,null,null,null,null,null,null,null,null,null,"免税・非登録対象額",null,null,null,null,null,null,null,null,null,null,"―",null,null,null,null,"―"]
[null,null,null,null,null,"振込銀行　　",null,null,null,null,null,"銀行",null,null,null,null,null,"支店"]
[null,null,null,null,null,"預金種別",null,null,"当　・　普",null,null,"口座番号",null,null,null,null,null,null,null,null,null,null,null,"税抜計",null,null,null,null,{"$f":"SUM(AC25:AH28)","v":500000},null,null,null,null,null,"消費税計",null,null,null,null,{"$f":"SUM(AN25:AS28)","v":50000}]
[null,null,null,null,null,"口座名義（カナ）"]
[]
[null,null,null,null,null,"（注意）　",null,null,"この請求書は提出用の１枚を提出してください。"]
[null,null,null,null,null,null,null,null,"工事名、工事番号がある場合は必ず記入してください。"]
[null,null,null,null,null,null,null,null,"請求書は月締切、翌月５日までに提出してください。"]
[null,null,null,null,null,null,null,null,"支払は翌々月１０日です。（金融機関休業日の場合はその翌日）"]
[]
[]
[]
[]
[]
[]
[null,null,null,null,null,null,null,null,null,null,null,null,null,null,null,null,null,null,null,"請　　　求　　　書",null,null,null,null,null,null,null,null,null,null,null,null,null,null,null,null,null,null,null,null,null,null,"取引先控"]
[]
[null,null,null,null,null,null,null,null,null,null,null,null,null,null,null,null,null,null,null,"（工 事 請 負）"]
[]
[null,null,null,null,null,null,null,null,null,null,null,null,null,null,null,null,null,null,null,null,null,null,null,null,null,null,null,"登録番号",null,null,null,{"$f":"AF6","v":"T10100000000"},null,null,null,null,null,"免税事業者"]
[null,null,null,null,"株式会社　長谷川建設",null,null,null,null,null,null,null,null,null,null,"御中"]
[null,null,null,null,null,null,null,null,null,null,null,null,null,null,null,null,null,null,null,null,null,null,null,null,null,null,null,"住　所",null,null,"〒",{"$f":"AF8","v":"957-0000"}]
[null,null,null,null,null,"下記の通り請求いたします。",null,null,null,null,null,null,null,null,null,null,null,null,null,null,null,null,null,null,null,null,null,null,null,null,{"$f":"AE9","v":"新発田市〇〇"}]
[null,null,null,null,null,null,null,null,null,null,null,null,null,null,null,null,null,null,null,null,null,null,null,null,null,null,null,"会社名",null,null,{"$f":"AE10","v":"株式会社　〇〇"}]
[]
[null,null,null,null,null,"令和",null,null,{"$f":"I12","v":5},"年",{"$f":"K12","v":10},"月","末日締切分",null,null,null,null,null,null,null,null,null,null,null,null,null,null,null,null,null,{"$f":"AE12","v":"代表取締役　〇〇"}]
[null,null,null,null,null,null,null,null,null,null,null,null,null,null,null,null,null,null,null,null,null,null,null,null,null,null,null,"電　話",null,null,{"$f":"AE13","v":"0254-00-0000"},null,null,null,null,null,null,"FAX",null,{"$f":"AN13","v":"0254-00-0000"}]
[]
[null,null,null,null,null,"請求金額（消費税込）",null,null,null,null,null,{"$f":"L15","v":550000},null,null,null,null,null,null,null,null,null,null,null,"請負金額",null,null,null,null,"金額（税抜）",null,null,null,null,null,"累計出来高",null,null,null,null,{"$f":"AN15","v":500000}]
[]
[null,null,null,null,null,null,null,null,null,null,null,null,null,null,null,null,null,null,null,null,null,null,null,"当初契約額",null,null,null,null,{"$f":"AC17","v":1000000},null,null,null,null,null,"前回までの請求額",null,null,null,null,{"$f":"AN17","v":0}]
[null,null,null,null,null,"工事名",null,null,null,{"$f":"J18","v":"〇〇〇工事"}]
[null,null,null,null,null,null,null,null,null,null,null,null,null,null,null,null,null,null,null,null,null,null,null,"変更（増・減）",null,null,null,null,{"$f":"AC19","v":0},null,null,null,null,null,"今回請求額",null,null,null,null,{"$f":"AN19","v":500000}]
[]
[null,null,null,null,null,"工事場所",null,null,null,{"$f":"J21","v":"新発田市地内"},null,null,null,null,null,null,null,null,null,null,null,null,null,"変更後契約額",null,null,null,null,{"$f":"AC21","v":1000000},null,null,null,null,null,"差引残高",null,null,null,null,{"$f":"AN21","v":500000}]
[]
[]
[null,null,null,null,null,"工事番号",null,null,null,{"$f":"J24","v":"23-9-20"},null,null,null,null,null,null,null,null,null,null,null,null,null,"今回請求額"]
[null,null,null,null,null,null,null,null,null,null,null,null,null,null,null,null,null,null,null,null,null,null,null,"課税対象額",null,null,null,null,{"$f":"AC25","v":500000},null,null,null,null,null,"消費税　10％",null,null,null,null,{"$f":"AN25","v":50000}]
[]
[null,null,null,null,null,"※新規お取引の場合または変更があった場合のみご記入下さい。",null,null,null,null,null,null,null,null,null,null,null,null,null,null,null,null,null,"免税・非登録対象額",null,null,null,null,{"$f":"AC27","v":0},null,null,null,null,null,"―",null,null,null,null,{"$f":"AN27","v":"―"}]
[null,null,null,null,null,"振込銀行　　",null,null,{"$f":"I28","v":0},null,null,"銀行",null,{"$f":"N28","v":0},null,null,null,"支店"]
[null,null,null,null,null,"預金種別",null,null,"当　・　普",null,null,"口座番号",null,null,{"$f":"O29","v":0},null,null,null,null,null,null,null,null,"税抜計",null,null,null,null,{"$f":"AC29","v":500000},null,null,null,null,null,"消費税計",null,null,null,null,{"$f":"AN29","v":50000}]
[null,null,null,null,null,"口座名義（カナ）",null,null,null,null,{"$f":"K30","v":0}]
[]
[null,null,null,null,null,"（注意）　",null,null,"この請求書は提出用の１枚を提出してください。"]
[null,null,null,null,null,null,null,null,"工事名、工事番号がある場合は必ず記入してください。"]
[null,null,null,null,null,null,null,null,"請求書は月締切、翌月５日までに提出してください。"]
[null,null,null,null,null,null,null,null,"支払は翌々月１０日です。（金融機関休業日の場合はその翌日）"]

{"sheet":"工事請負","index":1,"n_rows":75,"n_cols":43,"rows_kept":75,"cut":false,"hidden":false,"merged":[[74,39,76,40],[74,41,76,42],[74,43,76,44],[75,8,75,20],[76,8,76,20],[60,34,61,38],[60,5,61,8],[60,9,61,19],[60,23,61,27],[60,28,61,33],[72,8,72,20],[73,8,73,20],[74,33,76,34],[74,35,76,36],[74,37,76,38],[64,28,65,33],[64,34,65,38],[64,39,65,44],[66,23,67,27],[66,28,67,33],[66,34,67,38],[66,39,67,44],[67,5,67,7],[67,8,67,10],[67,11,67,12],[67,13,67,16],[67,17,67,18],[29,10,29,18],[31,8,31,20],[32,8,32,20],[27,17,27,18],[45,27,46,30],[45,31,46,36],[45,37,46,39],[45,40,46,40],[46,4,47,14],[46,15,47,16],[47,27,48,28],[47,31,47,35],[48,5,49,14],[48,30,48,40],[49,27,51,28],[49,30,50,40],[51,5,51,7],[51,12,51,16],[51,30,51,40],[28,39,29,44],[14,5,15,10],[14,11,15,19],[17,5,18,8],[20,5,21,8],[23,5,24,8],[17,9,18,19],[20,9,21,19],[23,9,24,19],[14,28,15,33],[24,23,25,27],[23,23,23,27],[16,23,17,27],[18,23,19,27],[16,28,17,33],[18,28,19,33],[20,23,21,27],[20,28,21,33],[27,5,27,7],[27,8,27,10],[27,11,27,12],[27,13,27,16],[28,8,28,10],[28,14,28,18],[1,19,2,28],[3,19,4,28],[1,42,1,44],[16,39,17,44],[18,34,19,38],[18,39,19,44],[5,27,6,30],[5,31,6,36],[5,37,6,39],[5,40,6,40],[11,30,11,40],[12,27,12,28],[12,37,12,38],[12,30,12,35],[12,39,12,43],[9,27,11,28],[20,39,21,44],[14,23,15,27],[33,8,33,20],[35,8,35,20],[36,8,36,20],[34,33,36,34],[34,35,36,36],[34,37,36,38],[34,39,36,40],[34,43,36,44],[34,41,36,42],[14,34,15,38],[14,39,15,44],[16,34,17,38],[26,23,27,27],[28,23,29,27],[24,28,25,33],[26,28,27,33],[28,28,29,33],[24,34,25,38],[24,39,25,44],[26,34,27,38],[26,39,27,44],[28,34,29,38],[2,4,3,11],[6,15,7,16],[8,5,9,14],[8,30,8,40],[52,27,52,28],[52,30,52,35],[52,37,52,38],[52,39,52,43],[54,5,55,10],[54,11,55,19],[54,23,55,27],[54,28,55,33],[54,34,55,38],[54,39,55,44],[7,31,7,35],[6,4,7,14],[41,19,42,28],[42,4,43,11],[43,19,44,28],[7,27,8,28],[9,30,10,40],[11,12,11,16],[11,5,11,7],[20,34,21,38],[68,8,68,10],[68,14,68,18],[68,23,69,27],[68,28,69,33],[68,34,69,38],[68,39,69,44],[69,10,69,18],[71,8,71,20],[41,42,41,44],[56,23,57,27],[56,28,57,33],[56,34,57,38],[56,39,57,44],[57,5,58,8],[57,9,58,19],[58,23,59,27],[58,28,59,33],[58,34,59,38],[58,39,59,44],[60,39,61,44],[63,5,64,8],[63,9,64,19],[63,23,63,27],[64,23,65,27]]}
[]
[null,null,null,null,null,null,null,null,null,null,null,null,null,null,null,null,null,null,null,"請　　　求　　　書",null,null,null,null,null,null,null,null,null,null,null,null,null,null,null,null,null,null,null,null,null,null,"提出用"]
[]
[null,null,null,null,null,null,null,null,null,null,null,null,null,null,null,null,null,null,null,"（工 事 請 負）"]
[]
[null,null,null,null,null,null,null,null,null,null,null,null,null,null,null,null,null,null,null,null,null,null,null,null,null,null,null,"登録番号",null,null,null,null,null,null,null,null,null,"免税事業者"]
[null,null,null,null,"株式会社　長谷川建設",null,null,null,null,null,null,null,null,null,null,"御中"]
[null,null,null,null,null,null,null,null,null,null,null,null,null,null,null,null,null,null,null,null,null,null,null,null,null,null,null,"住　所",null,null,"〒"]
[null,null,null,null,null,"下記の通り請求いたします。"]
[null,null,null,null,null,null,null,null,null,null,null,null,null,null,null,null,null,null,null,null,null,null,null,null,null,null,null,"会社名"]
[]
[null,null,null,null,null,"令和",null,null,5,"年",null,"月","末日締切分"]
[null,null,null,null,null,null,null,null,null,null,null,null,null,null,null,null,null,null,null,null,null,null,null,null,null,null,null,"電　話",null,null,null,null,null,null,null,null,null,"FAX"]
[]
[null,null,null,null,null,"請求金額（消費税込）",null,null,null,null,null,{"$f":"SUM(AC29+AN29)","v":0},null,null,null,null,null,null,null,null,null,null,null,"請負金額",null,null,null,null,"金額（税抜）",null,null,null,null,null,"累計出来高"]
[]
[null,null,null,null,null,null,null,null,null,null,null,null,null,null,null,null,null,null,null,null,null,null,null,"当初契約額",null,null,null,null,null,null,null,null,null,null,"前回までの請求額",null,null,null,null,0]
[null,null,null,null,null,"工事名"]
[null,null,null,null,null,null,null,null,null,null,null,null,null,null,null,null,null,null,null,null,null,null,null,"変更（増・減）",null,null,null,null,0,null,null,null,null,null,"今回請求額"]
[]
[null,null,null,null,null,"工事場所",null,null,null,null,null,null,null,null,null,null,null,null,null,null,null,null,null,"変更後契約額",null,null,null,null,{"$f":"SUM(AC17:AH20)","v":0},null,null,null,null,null,"差引残高",null,null,null,null,{"$f":"SUM(AC21-AN17-AN19)","v":0}]
[]
[]
[null,null,null,null,null,"工事番号",null,null,null,null,null,null,null,null,null,null,null,null,null,null,null,null,null,"今回請求額"]
[null,null,null,null,null,null,null,null,null,null,null,null,null,null,null,null,null,null,null,null,null,null,null,"課税対象額",null,null,null,null,null,null,null,null,null,null,"消費税　10％",null,null,null,null,{"$f":"SUM(AC25*0.1)","v":0}]
[]
[null,null,null,null,null,"※新規お取引の場合または変更があった場合のみご記入下さい。",null,null,null,null,null,null,null,null,null,null,null,null,null,null,null,null,null,"免税・非登録対象額",null,null,null,null,null,null,null,null,null,null,"―",null,null,null,null,"―"]
[null,null,null,null,null,"振込銀行　　",null,null,null,null,null,"銀行",null,null,null,null,null,"支店"]
[null,null,null,null,null,"預金種別",null,null,"当　・　普",null,null,"口座番号",null,null,null,null,null,null,null,null,null,null,null,"税抜計",null,null,null,null,{"$f":"SUM(AC25:AH28)","v":0},null,null,null,null,null,"消費税計",null,null,null,null,{"$f":"SUM(AN25:AS28)","v":0}]
[null,null,null,null,null,"口座名義（カナ）"]
[]
[null,null,null,null,null,"（注意）　",null,null,"この請求書は提出用の１枚を提出してください。"]
[null,null,null,null,null,null,null,null,"工事名、工事番号がある場合は必ず記入してください。"]
[null,null,null,null,null,null,null,null,"請求書は月締切、翌月５日までに提出してください。"]
[null,null,null,null,null,null,null,null,"支払は翌々月１０日です。（金融機関休業日の場合はその翌日）"]
[]
[]
[]
[]
[]
[]
[null,null,null,null,null,null,null,null,null,null,null,null,null,null,null,null,null,null,null,"請　　　求　　　書",null,null,null,null,null,null,null,null,null,null,null,null,null,null,null,null,null,null,null,null,null,null,"取引先控"]
[]
[null,null,null,null,null,null,null,null,null,null,null,null,null,null,null,null,null,null,null,"（工 事 請 負）"]
[]
[null,null,null,null,null,null,null,null,null,null,null,null,null,null,null,null,null,null,null,null,null,null,null,null,null,null,null,"登録番号",null,null,null,{"$f":"AF6","v":0},null,null,null,null,null,"免税事業者"]
[null,null,null,null,"株式会社　長谷川建設",null,null,null,null,null,null,null,null,null,null,"御中"]
[null,null,null,null,null,null,null,null,null,null,null,null,null,null,null,null,null,null,null,null,null,null,null,null,null,null,null,"住　所",null,null,"〒",{"$f":"AF8","v":0}]
[null,null,null,null,null,"下記の通り請求いたします。",null,null,null,null,null,null,null,null,null,null,null,null,null,null,null,null,null,null,null,null,null,null,null,null,{"$f":"AE9","v":0}]
[null,null,null,null,null,null,null,null,null,null,null,null,null,null,null,null,null,null,null,null,null,null,null,null,null,null,null,"会社名",null,null,{"$f":"AE10","v":0}]
[]
[null,null,null,null,null,"令和",null,null,{"$f":"I12","v":5},"年",{"$f":"K12","v":0},"月","末日締切分",null,null,null,null,null,null,null,null,null,null,null,null,null,null,null,null,null,{"$f":"AE12","v":0}]
[null,null,null,null,null,null,null,null,null,null,null,null,null,null,null,null,null,null,null,null,null,null,null,null,null,null,null,"電　話",null,null,{"$f":"AE13","v":0},null,null,null,null,null,null,"FAX",null,{"$f":"AN13","v":0}]
[]
[null,null,null,null,null,"請求金額（消費税込）",null,null,null,null,null,{"$f":"L15","v":0},null,null,null,null,null,null,null,null,null,null,null,"請負金額",null,null,null,null,"金額（税抜）",null,null,null,null,null,"累計出来高",null,null,null,null,{"$f":"AN15","v":0}]
[]
[null,null,null,null,null,null,null,null,null,null,null,null,null,null,null,null,null,null,null,null,null,null,null,"当初契約額",null,null,null,null,{"$f":"AC17","v":0},null,null,null,null,null,"前回までの請求額",null,null,null,null,{"$f":"AN17","v":0}]
[null,null,null,null,null,"工事名",null,null,null,{"$f":"J18","v":0}]
[null,null,null,null,null,null,null,null,null,null,null,null,null,null,null,null,null,null,null,null,null,null,null,"変更（増・減）",null,null,null,null,{"$f":"AC19","v":0},null,null,null,null,null,"今回請求額",null,null,null,null,{"$f":"AN19","v":0}]
[]
[null,null,null,null,null,"工事場所",null,null,null,{"$f":"J21","v":0},null,null,null,null,null,null,null,null,null,null,null,null,null,"変更後契約額",null,null,null,null,{"$f":"AC21","v":0},null,null,null,null,null,"差引残高",null,null,null,null,{"$f":"AN21","v":0}]
[]
[]
[null,null,null,null,null,"工事番号",null,null,null,{"$f":"J24","v":0},null,null,null,null,null,null,null,null,null,null,null,null,null,"今回請求額"]
[null,null,null,null,null,null,null,null,null,null,null,null,null,null,null,null,null,null,null,null,null,null,null,"課税対象額",null,null,null,null,{"$f":"AC25","v":0},null,null,null,null,null,"消費税　10％",null,null,null,null,{"$f":"AN25","v":0}]
[]
[null,null,null,null,null,"※新規お取引の場合または変更があった場合のみご記入下さい。",null,null,null,null,null,null,null,null,null,null,null,null,null,null,null,null,null,"免税・非登録対象額",null,null,null,null,{"$f":"AC27","v":0},null,null,null,null,null,"―",null,null,null,null,{"$f":"AN27","v":"―"}]
[null,null,null,null,null,"振込銀行　　",null,null,{"$f":"I28","v":0},null,null,"銀行",null,{"$f":"N28","v":0},null,null,null,"支店"]
[null,null,null,null,null,"預金種別",null,null,"当　・　普",null,null,"口座番号",null,null,{"$f":"O29","v":0},null,null,null,null,null,null,null,null,"税抜計",null,null,null,null,{"$f":"AC29","v":0},null,null,null,null,null,"消費税計",null,null,null,null,{"$f":"AN29","v":0}]
[null,null,null,null,null,"口座名義（カナ）",null,null,null,null,{"$f":"K30","v":0}]
[]
[null,null,null,null,null,"（注意）　",null,null,"この請求書は提出用の１枚を提出してください。"]
[null,null,null,null,null,null,null,null,"工事名、工事番号がある場合は必ず記入してください。"]
[null,null,null,null,null,null,null,null,"請求書は月締切、翌月５日までに提出してください。"]
[null,null,null,null,null,null,null,null,"支払は翌々月１０日です。（金融機関休業日の場合はその翌日）"]

{"sheet":"【記入例】物品 ","index":2,"n_rows":80,"n_cols":40,"rows_kept":80,"cut":false,"hidden":false,"merged":[[78,36,78,41],[79,2,79,18],[79,19,79,22],[79,23,79,24],[79,25,79,28],[79,29,79,35],[79,36,79,41],[78,4,78,16],[78,17,78,18],[78,19,78,22],[78,23,78,24],[78,25,78,28],[78,29,78,35],[76,36,76,41],[77,4,77,16],[77,17,77,18],[77,19,77,22],[77,23,77,24],[77,25,77,28],[77,29,77,35],[77,36,77,41],[76,4,76,16],[76,17,76,18],[76,19,76,22],[76,23,76,24],[76,25,76,28],[76,29,76,35],[74,36,74,41],[75,4,75,16],[75,17,75,18],[75,19,75,22],[75,23,75,24],[75,25,75,28],[75,29,75,35],[75,36,75,41],[74,4,74,16],[74,17,74,18],[74,19,74,22],[74,23,74,24],[74,25,74,28],[74,29,74,35],[72,36,72,41],[73,4,73,16],[73,17,73,18],[73,19,73,22],[73,23,73,24],[73,25,73,28],[73,29,73,35],[73,36,73,41],[72,4,72,16],[72,17,72,18],[72,19,72,22],[72,23,72,24],[72,25,72,28],[72,29,72,35],[70,36,70,41],[71,4,71,16],[71,17,71,18],[71,19,71,22],[71,23,71,24],[71,25,71,28],[71,29,71,35],[71,36,71,41],[70,4,70,16],[70,17,70,18],[70,19,70,22],[70,23,70,24],[70,25,70,28],[70,29,70,35],[67,25,67,41],[69,4,69,16],[69,17,69,18],[69,19,69,22],[69,23,69,24],[69,25,69,28],[69,29,69,35],[69,36,69,41],[65,25,66,28],[65,29,66,40],[66,2,66,6],[66,7,66,11],[66,12,66,16],[66,17,66,21],[64,7,64,11],[64,12,64,16],[64,17,64,21],[65,2,65,6],[65,7,65,11],[65,12,65,16],[65,17,65,21],[61,39,62,40],[63,2,63,6],[63,7,63,11],[63,12,63,16],[63,17,63,21],[63,25,64,28],[63,30,64,33],[63,34,64,35],[63,36,64,40],[64,2,64,6],[61,2,62,6],[61,7,62,21],[61,25,62,28],[61,29,62,32],[61,33,62,34],[61,35,62,38],[58,2,59,4],[58,5,59,17],[58,27,59,28],[58,29,59,33],[58,34,59,35],[58,36,59,40],[51,27,52,28],[51,31,51,35],[52,30,53,40],[54,3,55,11],[54,27,56,28],[54,30,55,40],[56,2,57,4],[56,5,57,17],[56,30,57,40],[51,2,52,4],[51,5,52,5],[51,6,52,6],[51,7,52,7],[51,8,52,8],[51,9,52,13],[46,16,47,25],[46,38,46,40],[48,2,49,12],[48,13,49,14],[49,18,50,23],[49,27,50,29],[49,30,50,35],[49,36,50,39],[49,40,50,40],[33,36,33,41],[34,2,34,18],[34,19,34,22],[34,23,34,24],[34,25,34,28],[34,29,34,35],[34,36,34,41],[33,4,33,16],[33,17,33,18],[33,19,33,22],[33,23,33,24],[33,25,33,28],[33,29,33,35],[31,36,31,41],[32,4,32,16],[32,17,32,18],[32,19,32,22],[32,23,32,24],[32,25,32,28],[32,29,32,35],[32,36,32,41],[31,4,31,16],[31,17,31,18],[31,19,31,22],[31,23,31,24],[31,25,31,28],[31,29,31,35],[29,36,29,41],[30,4,30,16],[30,17,30,18],[30,19,30,22],[30,23,30,24],[30,25,30,28],[30,29,30,35],[30,36,30,41],[29,4,29,16],[29,17,29,18],[29,19,29,22],[29,23,29,24],[29,25,29,28],[29,29,29,35],[27,36,27,41],[28,4,28,16],[28,17,28,18],[28,19,28,22],[28,23,28,24],[28,25,28,28],[28,29,28,35],[28,36,28,41],[27,4,27,16],[27,17,27,18],[27,19,27,22],[27,23,27,24],[27,25,27,28],[27,29,27,35],[25,36,25,41],[26,4,26,16],[26,17,26,18],[26,19,26,22],[26,23,26,24],[26,25,26,28],[26,29,26,35],[26,36,26,41],[25,4,25,16],[25,17,25,18],[25,19,25,22],[25,23,25,24],[25,25,25,28],[25,29,25,35],[22,25,22,41],[24,4,24,16],[24,17,24,18],[24,19,24,22],[24,23,24,24],[24,25,24,28],[24,29,24,35],[24,36,24,41],[20,25,21,28],[20,29,21,40],[21,2,21,6],[21,7,21,11],[21,12,21,16],[21,17,21,21],[19,7,19,11],[19,12,19,16],[19,17,19,21],[20,2,20,6],[20,7,20,11],[20,12,20,16],[20,17,20,21],[16,39,17,40],[18,2,18,6],[18,7,18,11],[18,12,18,16],[18,17,18,21],[18,25,19,28],[18,30,19,33],[18,34,19,35],[18,36,19,40],[19,2,19,6],[16,2,17,6],[16,7,17,21],[16,25,17,28],[16,29,17,32],[16,33,17,34],[16,35,17,38],[13,2,14,4],[13,5,14,17],[13,27,14,28],[13,29,14,33],[13,34,14,35],[13,36,14,40],[6,27,7,28],[6,31,6,35],[7,30,8,40],[9,3,10,11],[9,27,11,28],[9,30,10,40],[11,2,12,4],[11,5,12,17],[11,30,12,40],[6,2,7,4],[6,5,7,5],[6,6,7,6],[6,7,7,7],[6,8,7,8],[6,9,7,13],[1,16,2,25],[1,38,1,40],[3,2,4,12],[3,13,4,14],[4,18,5,23],[4,27,5,29],[4,30,5,35],[4,36,5,39],[4,40,5,40]]}
[]
[null,null,null,null,null,null,null,null,null,null,null,null,null,null,null,null,"請　求　書",null,null,null,null,null,null,null,null,null,null,null,null,null,null,null,null,null,null,null,null,null,"提出用"]
[]
[null,null,"株式会社　長谷川建設",null,null,null,null,null,null,null,null,null,null,"御中"]
[null,null,null,null,null,null,null,null,null,null,null,null,null,null,null,null,null,null,null,null,null,null,null,null,null,null,null,"登録番号",null,null,"T1011010000000",null,null,null,null,null,"免税事業者"]
[]
[null,null,"令和",null,null,5,"年",10,"月","末日締切分",null,null,null,null,null,null,null,null,null,null,null,null,null,null,null,null,null,"住　所",null,null,"〒",{"$f":"工事請負!AF8","v":0}]
[null,null,null,null,null,null,null,null,null,null,null,null,null,null,null,null,null,null,null,null,null,null,null,null,null,null,null,null,null,null,{"$f":"工事請負!AE9","v":0}]
[]
[null,null,null,"下記の通り請求いたします。",null,null,null,null,null,null,null,null,null,null,null,null,null,null,null,null,null,null,null,null,null,null,null,"氏　名",null,null,{"$f":"工事請負!AE10","v":0}]
[]
[null,null,"工事名又は\n納品先",null,null,"　　〇〇〇〇〇",null,null,null,null,null,null,null,null,null,null,null,null,null,null,null,null,null,null,null,null,null,null,null,null,{"$f":"工事請負!AE12","v":0}]
[]
[null,null,"工事番号",null,null,"　　２３－〇－〇〇",null,null,null,null,null,null,null,null,null,null,null,null,null,null,null,null,null,null,null,null,null,"電　話",null,"0254-00-0000",null,null,null,null,"FAX",null,"0254-00-0000"]
[]
[null,null,null,null,null,null,null,null,null,null,null,null,null,null,null,null,null,null,null,null,null,null,null,null,null,"↓※新規お取引の場合または変更があった場合のみご記入下さい。"]
[null,null,"請求金額（消費税込）",null,null,null,null,{"$f":"H22+R22","v":164000},null,null,null,null,null,null,null,null,null,null,null,null,null,null,null,null,null,"振込銀行",null,null,null,"○○",null,null,null,"銀行",null,"□□",null,null,null,"支店"]
[]
[null,null,"標準課税対象額",null,null,null,null,100000,null,null,null,null,"消費税１０％",null,null,null,null,{"$f":"H19*0.1","v":10000},null,null,null,null,null,null,null,"預金種別・口座番号",null,null,null,null,"普通",null,null,null,"Ｎｏ.",null,"11111111"]
[null,null,"軽減税率対象額",null,null,null,null,50000,null,null,null,null,"消費税   ８％",null,null,null,null,{"$f":"H20*0.08","v":4000}]
[null,null,"非課税・免税対象額",null,null,null,null,null,null,null,null,null,null,null,null,null,null,null,null,null,null,null,null,null,null,"口座名義（カタカナ）",null,null,null,"カ、〇〇〇"]
[null,null,"税抜計",null,null,null,null,{"$f":"SUM(H19:L21)","v":150000},null,null,null,null,"消費税計",null,null,null,null,{"$f":"SUM(R19:V21)","v":14000}]
[]
[]
[null,null,"月","日","品名（工種）",null,null,null,null,null,null,null,null,null,null,null,null,"税区分",null,"数量",null,null,null,"単位",null,"単価",null,null,null,"金額",null,null,null,null,null,null,"摘要"]
[null,null,null,null,"〇〇工事",null,null,null,null,null,null,null,null,null,null,null,null,0.1,null,1,null,null,null,"式",null,100000,null,null,null,100000]
[null,null,null,null,"△△△",null,null,null,null,null,null,null,null,null,null,null,null,0.08,null,1,null,null,null,"式",null,50000,null,null,null,50000]
[]
[]
[]
[]
[]
[]
[]
[null,null,"計",null,null,null,null,null,null,null,null,null,null,null,null,null,null,null,null,null,null,null,null,null,null,null,null,null,null,{"$f":"SUM(AD26:AJ34)","v":150000}]
[]
[]
[]
[]
[]
[]
[]
[]
[]
[]
[]
[null,null,null,null,null,null,null,null,null,null,null,null,null,null,null,null,"請　求　書",null,null,null,null,null,null,null,null,null,null,null,null,null,null,null,null,null,null,null,null,null,"取引先控"]
[]
[null,null,"株式会社　長谷川建設",null,null,null,null,null,null,null,null,null,null,"御中"]
[null,null,null,null,null,null,null,null,null,null,null,null,null,null,null,null,null,null,null,null,null,null,null,null,null,null,null,"登録番号",null,null,"T1011010000000",null,null,null,null,null,"免税事業者"]
[]
[null,null,"令和",null,null,{"$f":"F7","v":5},"年",{"$f":"H7","v":10},"月","末日締切分",null,null,null,null,null,null,null,null,null,null,null,null,null,null,null,null,null,"住　所",null,null,"〒",{"$f":"AF7","v":0}]
[null,null,null,null,null,null,null,null,null,null,null,null,null,null,null,null,null,null,null,null,null,null,null,null,null,null,null,null,null,null,{"$f":"AE8","v":0}]
[]
[null,null,null,"下記の通り請求いたします。",null,null,null,null,null,null,null,null,null,null,null,null,null,null,null,null,null,null,null,null,null,null,null,"氏　名",null,null,{"$f":"AE10","v":0}]
[]
[null,null,"工事名又は\n納品先",null,null,{"$f":"F12","v":"　　〇〇〇〇〇"},null,null,null,null,null,null,null,null,null,null,null,null,null,null,null,null,null,null,null,null,null,null,null,null,{"$f":"AE12","v":0}]
[]
[null,null,"工事番号",null,null,{"$f":"F14","v":"　　２３－〇－〇〇"},null,null,null,null,null,null,null,null,null,null,null,null,null,null,null,null,null,null,null,null,null,"電　話",null,{"$f":"AD14","v":"0254-00-0000"},null,null,null,null,"FAX",null,{"$f":"AK14","v":"0254-00-0000"}]
[]
[null,null,null,null,null,null,null,null,null,null,null,null,null,null,null,null,null,null,null,null,null,null,null,null,null,"↓※新規お取引の場合または変更があった場合のみご記入下さい。"]
[null,null,"請求金額（消費税込）",null,null,null,null,{"$f":"H67+R67","v":164000},null,null,null,null,null,null,null,null,null,null,null,null,null,null,null,null,null,"振込銀行",null,null,null,{"$f":"AD17","v":"○○"},null,null,null,"銀行",null,{"$f":"AJ17","v":"□□"},null,null,null,"支店"]
[]
[null,null,"標準課税対象額",null,null,null,null,{"$f":"H19","v":100000},null,null,null,null,"消費税１０％",null,null,null,null,{"$f":"R19","v":10000},null,null,null,null,null,null,null,"預金種別・口座番号",null,null,null,null,null,null,null,null,"Ｎｏ.",null,{"$f":"AK19","v":"11111111"}]
[null,null,"軽減税率対象額",null,null,null,null,{"$f":"H20","v":50000},null,null,null,null,"消費税８％",null,null,null,null,{"$f":"R20","v":4000}]
[null,null,"非課税・免税対象額",null,null,null,null,{"$f":"H21","v":0},null,null,null,null,null,null,null,null,null,null,null,null,null,null,null,null,null,"口座名義（カタカナ）",null,null,null,{"$f":"AD21","v":"カ、〇〇〇"}]
[null,null,"税抜計",null,null,null,null,{"$f":"H22","v":150000},null,null,null,null,"消費税計",null,null,null,null,{"$f":"R22","v":14000}]
[]
[]
[null,null,"月","日","品名（工種）",null,null,null,null,null,null,null,null,null,null,null,null,"税区分",null,"数量",null,null,null,"単位",null,"単価",null,null,null,"金額",null,null,null,null,null,null,"摘要"]
[null,null,{"$f":"C26","v":0},{"$f":"D26","v":0},{"$f":"E26","v":"〇〇工事"},null,null,null,null,null,null,null,null,null,null,null,null,null,null,{"$f":"T26","v":1},null,null,null,{"$f":"X26","v":"式"},null,{"$f":"Z26","v":100000},null,null,null,{"$f":"AD26","v":100000},null,null,null,null,null,null,{"$f":"AK26","v":0}]
[null,null,{"$f":"C27","v":0},0,"△△△",null,null,null,null,null,null,null,null,null,null,null,null,null,null,{"$f":"T27","v":1},null,null,null,{"$f":"X27","v":"式"},null,{"$f":"Z27","v":50000},null,null,null,{"$f":"AD27","v":50000},null,null,null,null,null,null,{"$f":"AK27","v":0}]
[null,null,0,0,0,null,null,null,null,null,null,null,null,null,null,null,null,null,null,0,null,null,null,0,null,0,null,null,null,0,null,null,null,null,null,null,0]
[null,null,0,0,0,null,null,null,null,null,null,null,null,null,null,null,null,null,null,0,null,null,null,0,null,0,null,null,null,0,null,null,null,null,null,null,0]
[null,null,0,0,0,null,null,null,null,null,null,null,null,null,null,null,null,null,null,0,null,null,null,0,null,0,null,null,null,0,null,null,null,null,null,null,0]
[null,null,0,0,0,null,null,null,null,null,null,null,null,null,null,null,null,null,null,0,null,null,null,0,null,0,null,null,null,0,null,null,null,null,null,null,0]
[null,null,0,0,0,null,null,null,null,null,null,null,null,null,null,null,null,null,null,0,null,null,null,0,null,0,null,null,null,0,null,null,null,null,null,null,0]
[null,null,0,0,0,null,null,null,null,null,null,null,null,null,null,null,null,null,null,0,null,null,null,0,null,0,null,null,null,0,null,null,null,null,null,null,0]
[null,null,null,0,0,null,null,null,null,null,null,null,null,null,null,null,null,null,null,0,null,null,null,0,null,0,null,null,null,0,null,null,null,null,null,null,0]
[null,null,"計",null,null,null,null,null,null,null,null,null,null,null,null,null,null,null,null,null,null,null,null,null,null,null,null,null,null,{"$f":"AD35","v":150000}]

{"sheet":"物品","index":3,"n_rows":80,"n_cols":40,"rows_kept":80,"cut":false,"hidden":false,"merged":[[78,25,78,28],[79,2,79,18],[79,19,79,22],[79,23,79,24],[79,25,79,28],[65,2,65,6],[65,7,65,11],[65,12,65,16],[75,4,75,16],[75,17,75,18],[75,19,75,22],[75,23,75,24],[75,25,75,28],[76,4,76,16],[76,17,76,18],[76,19,76,22],[76,23,76,24],[76,25,76,28],[66,2,66,6],[66,7,66,11],[66,12,66,16],[66,17,66,21],[67,25,67,41],[69,4,69,16],[28,4,28,16],[28,17,28,18],[28,19,28,22],[69,17,69,18],[69,19,69,22],[69,23,69,24],[69,25,69,28],[69,29,69,35],[69,36,69,41],[34,2,34,18],[61,2,62,6],[61,7,62,21],[63,2,63,6],[63,7,63,11],[63,12,63,16],[63,17,63,21],[63,36,64,40],[64,2,64,6],[64,7,64,11],[64,12,64,16],[64,17,64,21],[34,25,34,28],[28,23,28,24],[28,25,28,28],[21,12,21,16],[20,12,20,16],[18,7,18,11],[18,17,18,21],[19,7,19,11],[20,7,20,11],[21,7,21,11],[19,17,19,21],[20,17,20,21],[21,17,21,21],[25,25,25,28],[26,4,26,16],[26,17,26,18],[26,19,26,22],[26,23,26,24],[26,25,26,28],[18,25,19,28],[20,25,21,28],[18,2,18,6],[19,2,19,6],[20,2,20,6],[21,2,21,6],[49,27,50,29],[49,30,50,35],[49,40,50,40],[78,29,78,35],[78,36,78,41],[46,16,47,25],[46,38,46,40],[51,27,52,28],[51,31,51,35],[52,30,53,40],[75,29,75,35],[75,36,75,41],[49,36,50,39],[76,29,76,35],[76,36,76,41],[77,29,77,35],[77,36,77,41],[71,29,71,35],[71,36,71,41],[72,29,72,35],[72,36,72,41],[65,17,65,21],[65,29,66,40],[77,19,77,22],[79,29,79,35],[79,36,79,41],[77,4,77,16],[77,17,77,18],[73,29,73,35],[73,36,73,41],[74,29,74,35],[74,36,74,41],[73,4,73,16],[73,17,73,18],[73,19,73,22],[73,23,73,24],[73,25,73,28],[74,4,74,16],[74,17,74,18],[74,19,74,22],[74,23,74,24],[74,25,74,28],[77,23,77,24],[77,25,77,28],[78,4,78,16],[78,17,78,18],[78,19,78,22],[78,23,78,24],[71,4,71,16],[71,17,71,18],[71,19,71,22],[71,23,71,24],[71,25,71,28],[72,4,72,16],[72,17,72,18],[72,19,72,22],[72,23,72,24],[72,25,72,28],[70,29,70,35],[70,36,70,41],[70,4,70,16],[70,17,70,18],[70,19,70,22],[70,23,70,24],[70,25,70,28],[3,2,4,12],[3,13,4,14],[6,2,7,4],[6,5,7,5],[6,6,7,6],[16,35,17,38],[16,39,17,40],[18,34,19,35],[9,27,11,28],[9,30,10,40],[11,30,12,40],[18,30,19,33],[13,27,14,28],[13,29,14,33],[13,34,14,35],[13,36,14,40],[16,25,17,28],[25,4,25,16],[25,17,25,18],[25,19,25,22],[25,23,25,24],[16,29,17,32],[16,33,17,34],[4,27,5,29],[4,40,5,40],[1,16,2,25],[4,18,5,23],[6,27,7,28],[6,31,6,35],[7,30,8,40],[1,38,1,40],[4,30,5,35],[4,36,5,39],[18,12,18,16],[19,12,19,16],[16,2,17,6],[16,7,17,21],[22,25,22,41],[18,36,19,40],[20,29,21,40],[6,7,7,7],[6,8,7,8],[6,9,7,13],[9,3,10,11],[11,2,12,4],[13,2,14,4],[13,5,14,17],[11,5,12,17],[24,36,24,41],[24,25,24,28],[24,23,24,24],[24,19,24,22],[24,17,24,18],[24,4,24,16],[65,25,66,28],[63,34,64,35],[58,36,59,40],[61,25,62,28],[61,29,62,32],[61,33,62,34],[61,35,62,38],[61,39,62,40],[63,25,64,28],[63,30,64,33],[28,36,28,41],[25,36,25,41],[26,29,26,35],[26,36,26,41],[58,2,59,4],[58,5,59,17],[48,2,49,12],[48,13,49,14],[49,18,50,23],[51,2,52,4],[51,5,52,5],[51,6,52,6],[51,7,52,7],[51,8,52,8],[51,9,52,13],[54,3,55,11],[58,27,59,28],[58,29,59,33],[58,34,59,35],[54,27,56,28],[54,30,55,40],[56,2,57,4],[56,5,57,17],[56,30,57,40],[24,29,24,35],[29,29,29,35],[29,36,29,41],[30,29,30,35],[30,36,30,41],[29,4,29,16],[29,17,29,18],[29,19,29,22],[29,23,29,24],[29,25,29,28],[30,4,30,16],[30,17,30,18],[30,19,30,22],[30,23,30,24],[30,25,30,28],[27,29,27,35],[25,29,25,35],[27,4,27,16],[27,17,27,18],[27,19,27,22],[27,23,27,24],[27,25,27,28],[27,36,27,41],[28,29,28,35],[31,29,31,35],[31,36,31,41],[32,29,32,35],[32,36,32,41],[31,4,31,16],[31,17,31,18],[31,19,31,22],[31,23,31,24],[31,25,31,28],[32,4,32,16],[32,17,32,18],[32,19,32,22],[32,23,32,24],[32,25,32,28],[33,29,33,35],[33,36,33,41],[34,29,34,35],[34,36,34,41],[33,4,33,16],[33,17,33,18],[33,19,33,22],[33,23,33,24],[33,25,33,28],[34,19,34,22],[34,23,34,24]]}
[]
[null,null,null,null,null,null,null,null,null,null,null,null,null,null,null,null,"請　求　書",null,null,null,null,null,null,null,null,null,null,null,null,null,null,null,null,null,null,null,null,null,"提出用"]
[]
[null,null,"株式会社　長谷川建設",null,null,null,null,null,null,null,null,null,null,"御中"]
[null,null,null,null,null,null,null,null,null,null,null,null,null,null,null,null,null,null,null,null,null,null,null,null,null,null,null,"登録番号",null,null,null,null,null,null,null,null,"免税事業者"]
[]
[null,null,"令和",null,null,null,"年",null,"月","末日締切分",null,null,null,null,null,null,null,null,null,null,null,null,null,null,null,null,null,"住　所",null,null,"〒",{"$f":"工事請負!AF8","v":0}]
[null,null,null,null,null,null,null,null,null,null,null,null,null,null,null,null,null,null,null,null,null,null,null,null,null,null,null,null,null,null,{"$f":"工事請負!AE9","v":0}]
[]
[null,null,null,"下記の通り請求いたします。",null,null,null,null,null,null,null,null,null,null,null,null,null,null,null,null,null,null,null,null,null,null,null,"氏　名",null,null,{"$f":"工事請負!AE10","v":0}]
[]
[null,null,"工事名又は\n納品先",null,null,null,null,null,null,null,null,null,null,null,null,null,null,null,null,null,null,null,null,null,null,null,null,null,null,null,{"$f":"工事請負!AE12","v":0}]
[]
[null,null,"工事番号",null,null,null,null,null,null,null,null,null,null,null,null,null,null,null,null,null,null,null,null,null,null,null,null,"電　話",null,null,null,null,null,null,"FAX"]
[]
[null,null,null,null,null,null,null,null,null,null,null,null,null,null,null,null,null,null,null,null,null,null,null,null,null,"↓※新規お取引の場合または変更があった場合のみご記入下さい。"]
[null,null,"請求金額（消費税込）",null,null,null,null,{"$f":"H22+R22","v":0},null,null,null,null,null,null,null,null,null,null,null,null,null,null,null,null,null,"振込銀行",null,null,null,null,null,null,null,"銀行",null,null,null,null,null,"支店"]
[]
[null,null,"標準課税対象額",null,null,null,null,null,null,null,null,null,"消費税１０％",null,null,null,null,{"$f":"H19*0.1","v":0},null,null,null,null,null,null,null,"預金種別・口座番号",null,null,null,null,null,null,null,null,"Ｎｏ."]
[null,null,"軽減税率対象額",null,null,null,null,null,null,null,null,null,"消費税   ８％",null,null,null,null,{"$f":"H20*0.08","v":0}]
[null,null,"非課税・免税対象額",null,null,null,null,null,null,null,null,null,null,null,null,null,null,null,null,null,null,null,null,null,null,"口座名義（カタカナ）"]
[null,null,"税抜計",null,null,null,null,{"$f":"SUM(H19:L21)","v":0},null,null,null,null,"消費税計",null,null,null,null,{"$f":"SUM(R19:V21)","v":0}]
[]
[]
[null,null,"月","日","品名（工種）",null,null,null,null,null,null,null,null,null,null,null,null,"税区分",null,"数量",null,null,null,"単位",null,"単価",null,null,null,"金額",null,null,null,null,null,null,"摘要"]
[]
[]
[]
[]
[]
[]
[]
[]
[]
[null,null,"計",null,null,null,null,null,null,null,null,null,null,null,null,null,null,null,null,null,null,null,null,null,null,null,null,null,null,{"$f":"SUM(AD26:AJ34)","v":0}]
[]
[]
[]
[]
[]
[]
[]
[]
[]
[]
[]
[null,null,null,null,null,null,null,null,null,null,null,null,null,null,null,null,"請　求　書",null,null,null,null,null,null,null,null,null,null,null,null,null,null,null,null,null,null,null,null,null,"取引先控"]
[]
[null,null,"株式会社　長谷川建設",null,null,null,null,null,null,null,null,null,null,"御中"]
[null,null,null,null,null,null,null,null,null,null,null,null,null,null,null,null,null,null,null,null,null,null,null,null,null,null,null,"登録番号",null,null,{"$f":"AE5","v":0},null,null,null,null,null,"免税事業者"]
[]
[null,null,"令和",null,null,{"$f":"F7","v":0},"年",{"$f":"H7","v":0},"月","末日締切分",null,null,null,null,null,null,null,null,null,null,null,null,null,null,null,null,null,"住　所",null,null,"〒",{"$f":"AF7","v":0}]
[null,null,null,null,null,null,null,null,null,null,null,null,null,null,null,null,null,null,null,null,null,null,null,null,null,null,null,null,null,null,{"$f":"AE8","v":0}]
[]
[null,null,null,"下記の通り請求いたします。",null,null,null,null,null,null,null,null,null,null,null,null,null,null,null,null,null,null,null,null,null,null,null,"氏　名",null,null,{"$f":"AE10","v":0}]
[]
[null,null,"工事名又は\n納品先",null,null,{"$f":"F12","v":0},null,null,null,null,null,null,null,null,null,null,null,null,null,null,null,null,null,null,null,null,null,null,null,null,{"$f":"AE12","v":0}]
[]
[null,null,"工事番号",null,null,{"$f":"F14","v":0},null,null,null,null,null,null,null,null,null,null,null,null,null,null,null,null,null,null,null,null,null,"電　話",null,{"$f":"AD14","v":0},null,null,null,null,"FAX",null,{"$f":"AK14","v":0}]
[]
[null,null,null,null,null,null,null,null,null,null,null,null,null,null,null,null,null,null,null,null,null,null,null,null,null,"↓※新規お取引の場合または変更があった場合のみご記入下さい。"]
[null,null,"請求金額（消費税込）",null,null,null,null,{"$f":"H67+R67","v":0},null,null,null,null,null,null,null,null,null,null,null,null,null,null,null,null,null,"振込銀行",null,null,null,{"$f":"AD17","v":0},null,null,null,"銀行",null,{"$f":"AJ17","v":0},null,null,null,"支店"]
[]
[null,null,"標準課税対象額",null,null,null,null,{"$f":"H19","v":0},null,null,null,null,"消費税１０％",null,null,null,null,{"$f":"R19","v":0},null,null,null,null,null,null,null,"預金種別・口座番号",null,null,null,null,null,null,null,null,"Ｎｏ.",null,{"$f":"AK19","v":0}]
[null,null,"軽減税率対象額",null,null,null,null,{"$f":"H20","v":0},null,null,null,null,"消費税８％",null,null,null,null,{"$f":"R20","v":0}]
[null,null,"非課税・免税対象額",null,null,null,null,{"$f":"H21","v":0},null,null,null,null,null,null,null,null,null,null,null,null,null,null,null,null,null,"口座名義（カタカナ）",null,null,null,{"$f":"AD21","v":0}]
[null,null,"税抜計",null,null,null,null,{"$f":"H22","v":0},null,null,null,null,"消費税計",null,null,null,null,{"$f":"R22","v":0}]
[]
[]
[null,null,"月","日","品名（工種）",null,null,null,null,null,null,null,null,null,null,null,null,"税区分",null,"数量",null,null,null,"単位",null,"単価",null,null,null,"金額",null,null,null,null,null,null,"摘要"]
[null,null,{"$f":"C26","v":0},{"$f":"D26","v":0},{"$f":"E26","v":0},null,null,null,null,null,null,null,null,null,null,null,null,null,null,{"$f":"T26","v":0},null,null,null,{"$f":"X26","v":0},null,{"$f":"Z26","v":0},null,null,null,{"$f":"AD26","v":0},null,null,null,null,null,null,{"$f":"AK26","v":0}]
[null,null,{"$f":"C27","v":0},0,0,null,null,null,null,null,null,null,null,null,null,null,null,null,null,{"$f":"T27","v":0},null,null,null,{"$f":"X27","v":0},null,{"$f":"Z27","v":0},null,null,null,{"$f":"AD27","v":0},null,null,null,null,null,null,{"$f":"AK27","v":0}]
[null,null,0,0,0,null,null,null,null,null,null,null,null,null,null,null,null,null,null,0,null,null,null,0,null,0,null,null,null,0,null,null,null,null,null,null,0]
[null,null,0,0,0,null,null,null,null,null,null,null,null,null,null,null,null,null,null,0,null,null,null,0,null,0,null,null,null,0,null,null,null,null,null,null,0]
[null,null,0,0,0,null,null,null,null,null,null,null,null,null,null,null,null,null,null,0,null,null,null,0,null,0,null,null,null,0,null,null,null,null,null,null,0]
[null,null,0,0,0,null,null,null,null,null,null,null,null,null,null,null,null,null,null,0,null,null,null,0,null,0,null,null,null,0,null,null,null,null,null,null,0]
[null,null,0,0,0,null,null,null,null,null,null,null,null,null,null,null,null,null,null,0,null,null,null,0,null,0,null,null,null,0,null,null,null,null,null,null,0]
[null,null,0,0,0,null,null,null,null,null,null,null,null,null,null,null,null,null,null,0,null,null,null,0,null,0,null,null,null,0,null,null,null,null,null,null,0]
[null,null,null,{"$f":"D34","v":0},0,null,null,null,null,null,null,null,null,null,null,null,null,null,null,0,null,null,null,0,null,0,null,null,null,0,null,null,null,null,null,null,0]
[null,null,"計",null,null,null,null,null,null,null,null,null,null,null,null,null,null,null,null,null,null,null,null,null,null,null,null,null,null,{"$f":"AD35","v":0}]

{"sheet":"内訳書","index":4,"n_rows":59,"n_cols":38,"rows_kept":59,"cut":false,"hidden":false,"merged":[[55,1,55,16],[55,25,55,29],[56,1,56,16],[56,25,56,29],[56,31,56,41],[57,1,57,16],[57,25,57,29],[57,31,57,41],[58,1,58,16],[58,25,58,29],[58,31,58,41],[50,10,50,14],[50,15,50,16],[51,10,51,14],[51,15,51,16],[52,10,52,14],[52,15,52,16],[53,10,53,14],[53,15,53,16],[54,25,54,29],[37,22,37,24],[37,25,37,29],[37,31,37,32],[37,33,37,41],[38,3,38,9],[38,10,38,14],[38,15,38,16],[39,10,39,14],[39,15,39,16],[32,30,33,41],[34,1,35,2],[34,3,35,4],[34,5,35,5],[34,6,35,7],[34,8,35,8],[34,9,35,10],[34,11,35,11],[34,16,35,25],[20,10,20,14],[20,15,20,16],[20,17,20,19],[20,20,20,21],[20,22,20,24],[20,25,20,29],[20,31,20,32],[15,3,15,9],[18,10,18,14],[18,15,18,16],[7,25,7,29],[7,31,7,32],[7,33,7,41],[8,17,8,19],[8,20,8,21],[8,22,8,24],[8,25,8,29],[8,31,8,32],[8,33,8,41],[7,17,7,19],[7,20,7,21],[7,22,7,24],[11,33,11,41],[10,17,10,19],[10,20,10,21],[10,22,10,24],[10,25,10,29],[10,31,10,32],[10,33,10,41],[9,25,9,29],[9,31,9,32],[9,33,9,41],[9,17,9,19],[9,20,9,21],[9,22,9,24],[11,17,11,19],[11,20,11,21],[11,22,11,24],[14,33,14,41],[13,17,13,19],[13,20,13,21],[13,22,13,24],[13,25,13,29],[13,31,13,32],[13,33,13,41],[12,17,12,19],[12,20,12,21],[12,22,12,24],[12,25,12,29],[12,31,12,32],[12,33,12,41],[16,33,16,41],[17,17,17,19],[17,20,17,21],[17,22,17,24],[17,25,17,29],[17,31,17,32],[17,33,17,41],[15,17,15,19],[15,20,15,21],[15,22,15,24],[15,25,15,29],[15,31,15,32],[15,33,15,41],[16,17,16,19],[16,20,16,21],[16,22,16,24],[21,33,21,41],[22,17,22,19],[22,20,22,21],[22,22,22,24],[22,25,22,29],[22,31,22,32],[22,33,22,41],[18,25,18,29],[18,31,18,32],[18,33,18,41],[19,17,19,19],[19,20,19,21],[19,22,19,24],[19,25,19,29],[19,31,19,32],[19,33,19,41],[21,17,21,19],[21,20,21,21],[21,22,21,24],[18,17,18,19],[18,20,18,21],[18,22,18,24],[20,33,20,41],[53,33,53,41],[52,17,52,19],[52,20,52,21],[52,22,52,24],[52,25,52,29],[52,31,52,32],[52,33,52,41],[23,31,23,32],[23,33,23,41],[38,31,38,32],[38,33,38,41],[39,31,39,32],[39,33,39,41],[47,33,47,41],[38,22,38,24],[28,25,28,29],[28,31,28,41],[40,17,40,19],[40,20,40,21],[40,22,40,24],[40,25,40,29],[23,17,23,19],[23,20,23,21],[42,33,42,41],[10,10,10,14],[10,15,10,16],[11,10,11,14],[11,15,11,16],[12,10,12,14],[12,15,12,16],[53,31,53,32],[21,31,21,32],[16,25,16,29],[16,31,16,32],[14,17,14,19],[14,20,14,21],[14,22,14,24],[14,25,14,29],[14,31,14,32],[11,25,11,29],[11,31,11,32],[23,22,23,24],[32,1,32,11],[32,12,32,13],[32,18,33,23],[32,27,33,29],[13,3,13,9],[20,3,20,9],[53,3,53,9],[23,25,23,29],[19,3,19,9],[21,3,21,9],[22,3,22,9],[53,17,53,19],[53,20,53,21],[53,22,53,24],[53,25,53,29],[21,25,21,29],[23,3,23,9],[38,25,38,29],[39,3,39,9],[39,17,39,19],[39,20,39,21],[39,22,39,24],[39,25,39,29],[37,3,37,14],[37,15,37,16],[37,17,37,19],[37,20,37,21],[43,3,43,9],[43,17,43,19],[43,20,43,21],[2,1,2,11],[0,37,0,41],[4,1,5,2],[4,3,5,4],[4,5,5,5],[4,6,5,7],[4,8,5,8],[4,9,5,10],[4,11,5,11],[2,30,3,41],[4,16,5,25],[2,18,3,23],[2,27,3,29],[2,12,2,13],[44,33,44,41],[10,3,10,9],[11,3,11,9],[12,3,12,9],[8,3,8,9],[9,3,9,9],[8,15,8,16],[8,10,8,14],[40,33,40,41],[41,3,41,9],[41,17,41,19],[41,20,41,21],[41,22,41,24],[41,25,41,29],[41,31,41,32],[41,33,41,41],[40,10,40,14],[40,15,40,16],[41,10,41,14],[41,15,41,16],[28,1,28,16],[25,31,25,41],[19,10,19,14],[19,15,19,16],[51,3,51,9],[51,17,51,19],[51,20,51,21],[51,22,51,24],[51,25,51,29],[51,31,51,32],[51,33,51,41],[48,3,48,9],[48,17,48,19],[48,20,48,21],[48,22,48,24],[48,25,48,29],[48,31,48,32],[48,33,48,41],[49,3,49,9],[49,17,49,19],[49,20,49,21],[49,22,49,24],[49,25,49,29],[49,31,49,32],[49,33,49,41],[50,33,50,41],[48,10,48,14],[48,15,48,16],[47,3,47,9],[47,17,47,19],[47,20,47,21],[47,22,47,24],[47,25,47,29],[47,31,47,32],[46,10,46,14],[46,15,46,16],[47,10,47,14],[47,15,47,16],[40,3,40,9],[40,31,40,32],[46,3,46,9],[46,17,46,19],[46,20,46,21],[46,22,46,24],[46,25,46,29],[46,31,46,32],[46,33,46,41],[45,3,45,9],[45,17,45,19],[45,20,45,21],[45,22,45,24],[45,25,45,29],[45,31,45,32],[45,33,45,41],[44,10,44,14],[44,15,44,16],[45,10,45,14],[45,15,45,16],[43,22,43,24],[43,25,43,29],[43,31,43,32],[43,33,43,41],[44,3,44,9],[44,17,44,19],[44,20,44,21],[44,22,44,24],[44,25,44,29],[44,31,44,32],[42,3,42,9],[42,17,42,19],[42,20,42,21],[42,22,42,24],[42,25,42,29],[42,31,42,32],[42,10,42,14],[42,15,42,16],[43,10,43,14],[43,15,43,16],[52,3,52,9],[54,31,54,41],[55,31,55,41],[30,37,30,41],[38,17,38,19],[25,1,25,16],[24,25,24,29],[26,1,26,16],[26,25,26,29],[26,31,26,41],[24,31,24,41],[27,1,27,16],[25,25,25,29],[27,25,27,29],[27,31,27,41],[49,10,49,14],[49,15,49,16],[38,20,38,21],[50,3,50,9],[50,17,50,19],[50,20,50,21],[50,22,50,24],[50,25,50,29],[50,31,50,32],[21,15,21,16],[22,10,22,14],[22,15,22,16],[23,10,23,14],[23,15,23,16],[7,3,7,14],[7,15,7,16],[13,10,13,14],[13,15,13,16],[14,10,14,14],[14,15,14,16],[15,10,15,14],[15,15,15,16],[16,10,16,14],[16,15,16,16],[17,10,17,14],[17,15,17,16],[16,3,16,9],[17,3,17,9],[18,3,18,9],[14,3,14,9],[21,10,21,14],[9,10,9,14],[9,15,9,16]]}
[null,null,null,null,null,null,null,null,null,null,null,null,null,null,null,null,null,null,null,null,null,null,null,null,null,null,null,null,null,null,null,null,null,null,null,null,null,"提出用"]
[]
[null,"株式会社　長谷川建設",null,null,null,null,null,null,null,null,null,null,"御中",null,null,null,null,null,{"$f":"物品!S5","v":"00:00:00"},null,null,null,null,null,null,null,null,"商店名",null,null,{"$f":"物品!AE10","v":0}]
[]
[null,"令和",null,null,null,"年",null,null,"月",null,null,"日",null,null,null,null,"請求明細書"]
[]
[]
[null,"月","日","品　名　　・　寸　法",null,null,null,null,null,null,null,null,null,null,null,"税区分",null,"数　量",null,null,"単位",null,"単　価　",null,null,"税　抜　金　額",null,null,null,null,"納入場所又は工事名","検印",null,"備　　　　　考"]
[]
[]
[]
[null,null,null,null,null,null,null,null,null,null,null,null,null,null,null,null,null,null,null,null,null,null,null,null,null,{"$f":"R12*W12","v":0}]
[null,null,null,null,null,null,null,null,null,null,null,null,null,null,null,null,null,null,null,null,null,null,null,null,null,0]
[null,null,null,null,null,null,null,null,null,null,null,null,null,null,null,null,null,null,null,null,null,null,null,null,null,0]
[null,null,null,null,null,null,null,null,null,null,null,null,null,null,null,null,null,null,null,null,null,null,null,null,null,0]
[null,null,null,null,null,null,null,null,null,null,null,null,null,null,null,null,null,null,null,null,null,null,null,null,null,0]
[null,null,null,null,null,null,null,null,null,null,null,null,null,null,null,null,null,null,null,null,null,null,null,null,null,{"$f":"R17*W17","v":0}]
[null,null,null,null,null,null,null,null,null,null,null,null,null,null,null,null,null,null,null,null,null,null,null,null,null,{"$f":"R18*W18","v":0}]
[null,null,null,null,null,null,null,null,null,null,null,null,null,null,null,null,null,null,null,null,null,null,null,null,null,{"$f":"R19*W19","v":0}]
[null,null,null,null,null,null,null,null,null,null,null,null,null,null,null,null,null,null,null,null,null,null,null,null,null,0]
[null,null,null,null,null,null,null,null,null,null,null,null,null,null,null,null,null,null,null,null,null,null,null,null,null,{"$f":"R21*W21","v":0}]
[null,null,null,null,null,null,null,null,null,null,null,null,null,null,null,null,null,null,null,null,null,null,null,null,null,0]
[null,null,null,null,null,null,null,null,null,null,null,null,null,null,null,null,null,null,null,null,null,null,null,null,null,0]
[null,null,null,null,null,null,null,null,null,null,null,null,null,null,null,null,null,null,null,null,null,null,null,null,null,0]
[null,null,null,null,null,null,null,null,null,null,null,null,null,null,null,null,null,null,null,null,null,null,null,null,null,"税抜計",null,null,null,null,"消費税額","合計金額"]
[null,"８％対象計",null,null,null,null,null,null,null,null,null,null,null,null,null,null,null,null,null,null,null,null,null,null,null,null,null,null,null,null,{"$f":"SUM(Z26*0.08)","v":0},{"$f":"SUM(Z26:AE26)","v":0}]
[null,"１０％対象計",null,null,null,null,null,null,null,null,null,null,null,null,null,null,null,null,null,null,null,null,null,null,null,null,null,null,null,null,{"$f":"SUM(Z27*0.1)","v":0},{"$f":"SUM(Z27:AE27)","v":0}]
[null,"非課税・免税対象額"]
[null,"請求金額（消費税込）",null,null,null,null,null,null,null,null,null,null,null,null,null,null,null,null,null,null,null,null,null,null,null,{"$f":"SUM(Z26:AD28)","v":0},null,null,null,null,{"$f":"SUM(AE26:AE28)","v":0},{"$f":"SUM(AF26:AP28)","v":0}]
[]
[null,null,null,null,null,null,null,null,null,null,null,null,null,null,null,null,null,null,null,null,null,null,null,null,null,null,null,null,null,null,null,null,null,null,null,null,null,"取引先控"]
[]
[null,"株式会社　長谷川建設",null,null,null,null,null,null,null,null,null,null,"御中",null,null,null,null,null,null,null,null,null,null,null,null,null,null,"商店名",null,null,{"$f":"AE3","v":0}]
[]
[null,"令和",null,{"$f":"D5","v":0},null,"年",{"$f":"G5","v":0},null,"月",{"$f":"J5","v":0},null,"日",null,null,null,null,"請求明細書"]
[]
[]
[null,"月","日","品　名　　・　寸　法",null,null,null,null,null,null,null,null,null,null,null,"税区分",null,"数　量",null,null,"単位",null,"単　価　",null,null,"税　抜　金　額",null,null,null,null,"納入場所又は工事名","検印",null,"備　　　　　考"]
[null,{"$f":"B9","v":0},{"$f":"C9","v":0},{"$f":"D9","v":0},null,null,null,null,null,null,{"$f":"K9","v":0},null,null,null,null,{"$f":"P9","v":0},null,{"$f":"R9","v":0},null,null,{"$f":"U9","v":0},null,{"$f":"W9","v":0},null,null,{"$f":"Z9","v":0},null,null,null,null,{"$f":"AE9","v":0},{"$f":"AF9","v":0},null,{"$f":"AH9","v":0}]
[null,{"$f":"B10","v":0},0,0,null,null,null,null,null,null,{"$f":"K10","v":0},null,null,null,null,{"$f":"P10","v":0},null,{"$f":"R10","v":0},null,null,{"$f":"U10","v":0},null,{"$f":"W10","v":0},null,null,{"$f":"Z10","v":0},null,null,null,null,{"$f":"AE10","v":0},0,null,{"$f":"AH10","v":0}]
[null,0,0,0,null,null,null,null,null,null,0,null,null,null,null,0,null,0,null,null,0,null,0,null,null,0,null,null,null,null,0,0,null,0]
[null,0,0,0,null,null,null,null,null,null,0,null,null,null,null,0,null,0,null,null,0,null,0,null,null,0,null,null,null,null,0,0,null,0]
[null,0,0,0,null,null,null,null,null,null,0,null,null,null,null,0,null,0,null,null,0,null,0,null,null,0,null,null,null,null,0,0,null,0]
[null,0,0,0,null,null,null,null,null,null,0,null,null,null,null,0,null,0,null,null,0,null,0,null,null,0,null,null,null,null,0,0,null,0]
[null,0,0,0,null,null,null,null,null,null,0,null,null,null,null,0,null,0,null,null,0,null,0,null,null,0,null,null,null,null,0,0,null,0]
[null,0,0,0,null,null,null,null,null,null,0,null,null,null,null,0,null,0,null,null,0,null,0,null,null,0,null,null,null,null,0,0,null,0]
[null,0,0,0,null,null,null,null,null,null,0,null,null,null,null,0,null,0,null,null,0,null,0,null,null,0,null,null,null,null,0,0,null,0]
[null,0,0,0,null,null,null,null,null,null,0,null,null,null,null,0,null,0,null,null,0,null,0,null,null,0,null,null,null,null,0,0,null,0]
[null,0,0,0,null,null,null,null,null,null,0,null,null,null,null,0,null,0,null,null,0,null,0,null,null,0,null,null,null,null,0,0,null,0]
[null,0,0,0,null,null,null,null,null,null,0,null,null,null,null,0,null,0,null,null,0,null,0,null,null,0,null,null,null,null,0,0,null,0]
[null,0,0,0,null,null,null,null,null,null,0,null,null,null,null,0,null,0,null,null,0,null,0,null,null,0,null,null,null,null,0,0,null,0]
[null,0,0,0,null,null,null,null,null,null,0,null,null,null,null,0,null,0,null,null,0,null,0,null,null,0,null,null,null,null,0,0,null,0]
[null,0,0,0,null,null,null,null,null,null,0,null,null,null,null,0,null,0,null,null,0,null,0,null,null,0,null,null,null,null,0,0,null,0]
[null,0,0,0,null,null,null,null,null,null,0,null,null,null,null,0,null,0,null,null,0,null,0,null,null,0,null,null,null,null,0,0,null,0]
[null,null,null,null,null,null,null,null,null,null,null,null,null,null,null,null,null,null,null,null,null,null,null,null,null,"税抜計",null,null,null,null,"消費税額","合計金額"]
[null,"８％対象計",null,null,null,null,null,null,null,null,null,null,null,null,null,null,null,null,null,null,null,null,null,null,null,null,null,null,null,null,{"$f":"SUM(Z56*0.08)","v":0},{"$f":"SUM(Z56:AE56)","v":0}]
[null,"１０％対象計",null,null,null,null,null,null,null,null,null,null,null,null,null,null,null,null,null,null,null,null,null,null,null,null,null,null,null,null,{"$f":"SUM(Z57*0.1)","v":0},{"$f":"SUM(Z57:AE57)","v":0}]
[null,"非課税・免税対象額"]
[null,"請求金額（消費税込）",null,null,null,null,null,null,null,null,null,null,null,null,null,null,null,null,null,null,null,null,null,null,null,{"$f":"SUM(Z56:AD58)","v":0},null,null,null,null,{"$f":"SUM(AE56:AE58)","v":0},{"$f":"SUM(AF56:AP58)","v":0}]